BEGIN:VCALENDAR
VERSION:2.0
PRODID:-//Plone.org//NONSGML plone.app.event//EN
X-WR-TIMEZONE:Europe/Helsinki
BEGIN:VEVENT
SUMMARY:Artic Summit van Gaia 2024
DTSTART;VALUE=DATE:20240606
DTEND;VALUE=DATE:20240609
DTSTAMP:20260420T232344Z
UID:407c229d46b546249353e588c7a71d9e@next-climate-adapt.eea.europa.eu
CATEGORIES:event
CONTACT:https://gaiaarcticsummit.eco/
CREATED:20240528T153814Z
DESCRIPTION:De door de EU medegefinancierde Gaia Arctic Summit 2024 is een
  internationale klimaatconferentie om dringende klimaatveranderingskwestie
 s aan te pakken\, met bijzondere aandacht voor de zee- en kustgemeenschapp
 en in het noorden.
LAST-MODIFIED:20250415T111127Z
LOCATION:Sortland\, Norway
URL:https://climate-adapt.eea.europa.eu/nl/more-events/gaia-artic-summit-2
 024
END:VEVENT
END:VCALENDAR
