BEGIN:VCALENDAR
VERSION:2.0
PRODID:-//Plone.org//NONSGML plone.app.event//EN
X-WR-TIMEZONE:Europe/Helsinki
BEGIN:VEVENT
SUMMARY:LIFE-informatiedagen
DTSTART;TZID=Europe/Helsinki:20260428T100000
DTEND;TZID=Europe/Helsinki:20260430T133000
DTSTAMP:20260423T191018Z
UID:f22e607acee24972b281267227718d9c@climate-adapt.eea.europa.eu
CONTACT:https://cinea.ec.europa.eu/news-events/news/getting-ready-life-cal
 ls-proposals-2026-save-dates-2026-02-12_en
CREATED:20260422T170458Z
DESCRIPTION:Na de publicatie van de LIFE-oproepen tot het indienen van voo
 rstellen 2026 op 21 april zal het Europees Uitvoerend Agentschap klimaat\,
  infrastructuur en milieu (Cinea) een reeks online-informatiedagen organis
 eren om potentiële aanvragers te begeleiden. Specifieke informatiesessies
  zullen inzicht geven in de prioritaire onderwerpen voor 2026 en advies ge
 ven over het opstellen van een goed projectvoorstel. Klimaatadaptatie is e
 en van de belangrijkste gebieden in de oproep tot het indienen van voorste
 llen en de sessie die relevant is voor adaptatie zal plaatsvinden op dag 2
  van de infodagen.
LAST-MODIFIED:20260422T170459Z
LOCATION:Online event
URL:https://climate-adapt.eea.europa.eu/nl/more-events/life-info-days
END:VEVENT
BEGIN:VTIMEZONE
TZID:Europe/Helsinki
X-LIC-LOCATION:Europe/Helsinki
BEGIN:DAYLIGHT
DTSTART:20260329T040000
TZNAME:EEST
TZOFFSETFROM:+0200
TZOFFSETTO:+0300
END:DAYLIGHT
END:VTIMEZONE
END:VCALENDAR
