BEGIN:VCALENDAR
VERSION:2.0
PRODID:-//Plone.org//NONSGML plone.app.event//EN
X-WR-TIMEZONE:Europe/Helsinki
BEGIN:VEVENT
SUMMARY:LifeCoolCity conferentie
DTSTART;TZID=Europe/Helsinki:20240610T120000
DTEND;TZID=Europe/Helsinki:20240618T140000
DTSTAMP:20260419T231407Z
UID:12bb9be3e221464ca7afb8c7a9f73f76@climate-adapt.eea.europa.eu
CATEGORIES:event,conference
CONTACT:https://www.mggpaero.com/en/lifecoolcity.html
CREATED:20240610T124849Z
DESCRIPTION:Hoe ondersteunt de natuur steden in het licht van klimaatveran
 dering? Het door de EU medegefinancierde project LifeCoolCity During zal b
 espreken hoe de ontwikkeling van blauwgroene infrastructuur kan worden ver
 sterkt in termen van vijf factoren die het aanpassingspotentieel van een s
 tad opbouwen: landafdekking\, stedelijk warmte-eiland\, de toestand van de
  blauwe infrastructuur\, de toestand van de groene infrastructuur en de to
 estand van de biodiversiteit. Deze online conferentie is in het Pools met 
 Engelse vertaling.
LAST-MODIFIED:20250416T101320Z
LOCATION:Online
URL:https://climate-adapt.eea.europa.eu/nl/more-events/lifecoolcity-confer
 ence
END:VEVENT
BEGIN:VTIMEZONE
TZID:Europe/Helsinki
X-LIC-LOCATION:Europe/Helsinki
BEGIN:DAYLIGHT
DTSTART:20240331T040000
TZNAME:EEST
TZOFFSETFROM:+0200
TZOFFSETTO:+0300
END:DAYLIGHT
END:VTIMEZONE
END:VCALENDAR
