BEGIN:VCALENDAR
VERSION:2.0
PRODID:-//Plone.org//NONSGML plone.app.event//EN
X-WR-TIMEZONE:Europe/Helsinki
BEGIN:VEVENT
SUMMARY:Mountain Innovation Fair 2023
DTSTART;VALUE=DATE:20231023
DTEND;VALUE=DATE:20231027
DTSTAMP:20260421T160701Z
UID:88f8186965a94aa5a49772177a36325f@climate-adapt.eea.europa.eu
CONTACT:https://www.eurac.edu/en/institutes-centers/center-for-global-moun
 tain-safeguard-research/news-events/mountain-innovation-fair-2023
CREATED:20250415T112217Z
DESCRIPTION:Bergen INNOVATE: een samenwerkingsruimte waarin de geest van i
 nnovatie voor aanpassing aan de klimaatverandering en duurzame bergontwikk
 eling wordt gedeeld. Het evenement zal worden georganiseerd in Eurac Resea
 rch door het Milieuprogramma van de Verenigde Naties (UNEP) en de Universi
 teit van de Verenigde Naties via het UNU-EHS Global Mountain Safeguard Res
 earch (GLOMOS) -programma\, met financiering van de Oostenrijkse ontwikkel
 ingssamenwerking (ADC).
LAST-MODIFIED:20250415T112217Z
LOCATION:Bolzano\, Italy
URL:https://climate-adapt.eea.europa.eu/nl/more-events/mountain-innovation
 -fair-2023
END:VEVENT
END:VCALENDAR
