BEGIN:VCALENDAR
VERSION:2.0
PRODID:-//Plone.org//NONSGML plone.app.event//EN
X-WR-TIMEZONE:Europe/Helsinki
BEGIN:VEVENT
SUMMARY:IANPHI Webinar over het ontwikkelen van indicatoren om relevante a
 ctie op het gebied van klimaatverandering en gezondheid te stimuleren
DTSTART;TZID=Europe/Helsinki:20221114T160000
DTEND;TZID=Europe/Helsinki:20221114T173000
DTSTAMP:20260422T005359Z
UID:23397243ba8643dd806f14b1b4c4be3a@varnish:6081
CATEGORIES:Climate and health crisis,climate indicators,Resilient and heal
 thy communities
CONTACT:https://emory.zoom.us/webinar/register/WN_Pc3wSmzyQdK2n8xeIBXkuA
CREATED:20250415T075718Z
DESCRIPTION:Indicatoren zijn cruciale instrumenten om klimaatgeïnduceerde
  gezondheidseffecten te volgen en vast te leggen\, bewijsmateriaal te benu
 tten en doeltreffende volksgezondheidsinterventies uit te voeren. Het zijn
  belangrijke instrumenten om de capaciteit van nationale volksgezondheidsi
 nstellingen (NPHI's) te vergroten. In dit webinar vertellen verschillende 
 NPHI's over hun eigen ervaringen met het ontwikkelen en gebruiken van indi
 catoren en de uitdagingen waarmee ze worden geconfronteerd. Ook indicatore
 n die zijn ontwikkeld door internationale initiatieven\, waaronder het Eur
 opees Waarnemingscentrum voor klimaat en gezondheid en de Lancet Countdown
 \, zullen worden besproken.
LAST-MODIFIED:20250415T075718Z
LOCATION:Online
URL:https://climate-adapt.eea.europa.eu/nl/observatory/ianphi-webinar-on-d
 eveloping-indicators-to-drive-relevant-action-on-climate-change-and-health
END:VEVENT
BEGIN:VTIMEZONE
TZID:Europe/Helsinki
X-LIC-LOCATION:Europe/Helsinki
BEGIN:STANDARD
DTSTART:20221030T030000
TZNAME:EET
TZOFFSETFROM:+0300
TZOFFSETTO:+0200
END:STANDARD
END:VTIMEZONE
END:VCALENDAR
