BEGIN:VCALENDAR
VERSION:2.0
PRODID:-//Plone.org//NONSGML plone.app.event//EN
X-WR-TIMEZONE:Europe/Helsinki
BEGIN:VEVENT
SUMMARY:Betre tilgjengelegheit og opptak av Climate-ADAPT — utvikling av
  fleirspråkleg innhald og nye kunnskapsnav
DTSTART;TZID=Europe/Helsinki:20221201T110000
DTEND;TZID=Europe/Helsinki:20221201T123000
DTSTAMP:20260420T155627Z
UID:6efe00a8c01e45e18d494d1bc51d6c7a@varnish:6081
CONTACT:climate.adapt@eea.europa.eu\, https://climate-adapt.eea.europa.eu/
 en/cca-events/improving-the-accessibility-and-uptake-of-Climate-ADAPT
CREATED:20250422T195747Z
LAST-MODIFIED:20250422T195747Z
LOCATION:Online event
URL:https://climate-adapt.eea.europa.eu/nn/cca-events/improving-the-access
 ibility-and-uptake-of-Climate-ADAPT
END:VEVENT
BEGIN:VTIMEZONE
TZID:Europe/Helsinki
X-LIC-LOCATION:Europe/Helsinki
BEGIN:STANDARD
DTSTART:20221030T030000
TZNAME:EET
TZOFFSETFROM:+0300
TZOFFSETTO:+0200
END:STANDARD
END:VTIMEZONE
END:VCALENDAR
