BEGIN:VCALENDAR
VERSION:2.0
PRODID:-//Plone.org//NONSGML plone.app.event//EN
X-WR-TIMEZONE:Europe/Helsinki
BEGIN:VEVENT
SUMMARY:COP26 — Spesialsesjon: Klimaløysingar med høg effekt
DTSTART;TZID=Europe/Helsinki:20211110T194500
DTEND;TZID=Europe/Helsinki:20211110T204500
DTSTAMP:20260420T065646Z
UID:f2c6365b3d5d4e8faa5a1e40f0281d3f@varnish:6081
CATEGORIES:Clean technologies,Innovation,Profitable climate solutions,Prof
 itable climate solutions
CONTACT:https://solutions.solarimpulse.com/e-pitch-high-impact-climate-sol
 utions
CREATED:20250422T182605Z
DESCRIPTION:Arrangementet vil vise korleis topplønsame klimaløysingar bi
 dreg til klimamåla for COP21\, og engasjere samtalen med institusjonar fo
 r å akselerere implementeringa. Etter ein introduksjon av Den europeiske 
 investeringsbankens direktør Chris Hurst og Bertrand Piccard på Solar Im
 pulse Foundations side\, vil det bli eit utstillingsvindauge for ei rekkje
  effektive løysingar på tvers av ulike sektorar\, etterfølgd av to rund
 ar med paneldiskusjonar.
LAST-MODIFIED:20250422T182605Z
LOCATION:Online and Glasgow\, UK
URL:https://climate-adapt.eea.europa.eu/nn/more-events/cop26-2013-special-
 session-high-impact-climate-solutions
END:VEVENT
BEGIN:VTIMEZONE
TZID:Europe/Helsinki
X-LIC-LOCATION:Europe/Helsinki
BEGIN:STANDARD
DTSTART:20211031T030000
TZNAME:EET
TZOFFSETFROM:+0300
TZOFFSETTO:+0200
END:STANDARD
END:VTIMEZONE
END:VCALENDAR
