BEGIN:VCALENDAR
VERSION:2.0
PRODID:-//Plone.org//NONSGML plone.app.event//EN
X-WR-TIMEZONE:Europe/Helsinki
BEGIN:VEVENT
SUMMARY:Copernicus Climate Change Service — Brukerlæringstenester: Tren
  trenarkurset
DTSTART;TZID=Europe/Helsinki:20180917T100000
DTEND;TZID=Europe/Helsinki:20181130T180000
DTSTAMP:20260420T054121Z
UID:a98e80d1b1904563ad20477d433c793c@varnish:6081
CONTACT:https://climate.copernicus.eu/c3s-user-learning-services-train-tra
 iner-course
CREATED:20250422T182620Z
DESCRIPTION:Copernicus Climate Change Service (C3S) User Learning Services
  tilbyr gratis opplæringsarrangementar og ressursar om korleis du brukar 
 Copernicus Climate Data Store (CDS) -plattforma og dens innhald for å st
 øtte dine konsekvensutgreiingar for klimaendringar. Kursa kombinerer onli
 ne læring og ansikt-til-ansikt hendingar i 30 land over heile Europa.
LAST-MODIFIED:20250422T182620Z
LOCATION:across Europe
URL:https://climate-adapt.eea.europa.eu/nn/more-events/copernicus-climate-
 change-service-user-learning-services-train-the-trainer-course
END:VEVENT
BEGIN:VTIMEZONE
TZID:Europe/Helsinki
X-LIC-LOCATION:Europe/Helsinki
BEGIN:DAYLIGHT
DTSTART:20180325T040000
TZNAME:EEST
TZOFFSETFROM:+0200
TZOFFSETTO:+0300
END:DAYLIGHT
BEGIN:STANDARD
DTSTART:20181028T030000
TZNAME:EET
TZOFFSETFROM:+0300
TZOFFSETTO:+0200
END:STANDARD
END:VTIMEZONE
END:VCALENDAR
