BEGIN:VCALENDAR
VERSION:2.0
PRODID:-//Plone.org//NONSGML plone.app.event//EN
X-WR-TIMEZONE:Europe/Helsinki
BEGIN:VEVENT
SUMMARY:EMECS'11 Sjøkystene XXVI
DTSTART;VALUE=DATE:20160822
DTEND;VALUE=DATE:20160824
DTSTAMP:20260421T015404Z
UID:df0ed0e224c5418498690a5c5627bcd5@localhost:8001
CONTACT:http://www.emecs-sc2016.com/
CREATED:20250422T182803Z
DESCRIPTION:Konferansens tema: Handtere risiko for kystregionar og lokalsa
 mfunn i ei verd i endring.
LAST-MODIFIED:20250422T182803Z
LOCATION:St. Petersburg\, Russia
URL:https://climate-adapt.eea.europa.eu/nn/more-events/emecs-11-seacoasts-
 xxvi
END:VEVENT
END:VCALENDAR
