BEGIN:VCALENDAR
VERSION:2.0
PRODID:-//Plone.org//NONSGML plone.app.event//EN
X-WR-TIMEZONE:Europe/Helsinki
BEGIN:VEVENT
SUMMARY:Grøn veke 2018
DTSTART;TZID=Europe/Helsinki:20180521T100000
DTEND;TZID=Europe/Helsinki:20180525T180000
DTSTAMP:20260419T172144Z
UID:8ba2413cc93d405785d4c18034cf4c0f@varnish:6081
CATEGORIES:event
CONTACT:https://www.eugreenweek.eu/
CREATED:20250422T182835Z
DESCRIPTION:EUs grøne veke 2018 vil bli avhalde i forskjellige europeiske
  byar og vil utforske korleis EU hjelper byar til å bli betre stader å b
 u og jobbe. Økter organiserast langs tema som byplanlegging og utvikling 
 i forhold til klimatilpasning\, klimatenester og støtte til finansiering 
 av berekraftige byar. Også tilnærmingar og verktøy vil bli fremja for 
 å dele beste praksis\, engasjere lokale styresmakter og borgarar\, og opp
 muntre dei til å dele sin visjon om ei berekraftig framtid.
LAST-MODIFIED:20250422T182835Z
LOCATION:Different European cities
URL:https://climate-adapt.eea.europa.eu/nn/more-events/eu-green-week-2018
END:VEVENT
BEGIN:VTIMEZONE
TZID:Europe/Helsinki
X-LIC-LOCATION:Europe/Helsinki
BEGIN:DAYLIGHT
DTSTART:20180325T040000
TZNAME:EEST
TZOFFSETFROM:+0200
TZOFFSETTO:+0300
END:DAYLIGHT
END:VTIMEZONE
END:VCALENDAR
