BEGIN:VCALENDAR
VERSION:2.0
PRODID:-//Plone.org//NONSGML plone.app.event//EN
X-WR-TIMEZONE:Europe/Helsinki
BEGIN:VEVENT
SUMMARY:Grøn veke 2019
DTSTART;VALUE=DATE:20190513
DTEND;VALUE=DATE:20190519
DTSTAMP:20260420T002059Z
UID:15ba64fe6b9740f99320e819016e4824@varnish:6081
CATEGORIES:event
CONTACT:https://ec.europa.eu/info/events/eu-green-week-2019_en
CREATED:20250422T182839Z
DESCRIPTION:2019-utgåva av EUs grøne veke vil setje prosessen med miljø
 implementering i søkelyset. Det vil inkludere arrangementer over heile Eu
 ropa\, med den offisielle opninga 13. mai i eit av EUs medlemsland og eit 
 toppmøte på høgt nivå i Brussel frå 15. til 17. mai. Avslutninga av G
 reen Week vil finne stad på slutten av Brussel-konferansen og vil vise fr
 am dei politiske konklusjonane frå veka.
LAST-MODIFIED:20250422T182839Z
LOCATION:Location: across Europe
URL:https://climate-adapt.eea.europa.eu/nn/more-events/eu-green-week-2019
END:VEVENT
END:VCALENDAR
