BEGIN:VCALENDAR
VERSION:2.0
PRODID:-//Plone.org//NONSGML plone.app.event//EN
X-WR-TIMEZONE:Europe/Helsinki
BEGIN:VEVENT
SUMMARY:Europeiske havdagar
DTSTART;VALUE=DATE:20260302
DTEND;VALUE=DATE:20260307
DTSTAMP:20260420T060931Z
UID:9cf87c9a395144058b2a6c333ae5b7bf@climate-adapt.eea.europa.eu
CATEGORIES:Event
CONTACT:https://maritime-forum.ec.europa.eu/theme/governance/european-ocea
 n-days_en
CREATED:20251216T225953Z
DESCRIPTION:European Ocean Days er ei vekelang begiveining med ei rekkje d
 ynamiske og samanhengjande økter fokusert på viktige havrelaterte tema\,
  inkludert tilpasning til klimaendringar. Inspirert av European Ocean Pact
 \, vil den tredje utgåva av arrangementet samle industrileiarar\, oppstar
 t\, investorar\, beslutningstakarar\, forskarar\, små og mellomstore bedr
 ifter\, representantar frå fiskeri og havbruk\, øyar og kystsamfunn\, Mi
 ssion Ocean and Waters-samfunnet og det sivile samfunn\, inkludert ungdoms
 stemmer.
LAST-MODIFIED:20260105T145127Z
LOCATION:Brussels\, Belgium
URL:https://climate-adapt.eea.europa.eu/nn/more-events/european-ocean-days
END:VEVENT
END:VCALENDAR
