BEGIN:VCALENDAR
VERSION:2.0
PRODID:-//Plone.org//NONSGML plone.app.event//EN
X-WR-TIMEZONE:Europe/Helsinki
BEGIN:VEVENT
SUMMARY:Avsluttande møte om studien om klimatilpasningsmodellering
DTSTART;TZID=Europe/Helsinki:20220318T133000
DTEND;TZID=Europe/Helsinki:20220318T150000
DTSTAMP:20260419T200251Z
UID:73d2b9b487d14892a50ab71cc9ad2d34@varnish:6081
CATEGORIES:event,policy making
CONTACT:https://www.cmcc.it/lectures_conferences/study-on-climate-adaptati
 on-modelling-final-briefing
CREATED:20250422T183016Z
DESCRIPTION:Resultata av studien om tilpasningsmodellering\, bestilt av Eu
 ropakommisjonens DG CLIMA\, og utført av ei gruppe internasjonale forskar
 ar koordinert av CMCC Foundation\, fokuserer på tilpasningsmodellering me
 d sikte på å støtte betre informert beslutningstaking. Denne siste hend
 inga vil diskutere studieresultata i lys av den siste utviklinga av tilpas
 ningspolitiske landskapet.
LAST-MODIFIED:20250422T183016Z
LOCATION:Online
URL:https://climate-adapt.eea.europa.eu/nn/more-events/final-meeting-on-th
 e-study-on-climate-adaptation-modelling
END:VEVENT
BEGIN:VTIMEZONE
TZID:Europe/Helsinki
X-LIC-LOCATION:Europe/Helsinki
BEGIN:STANDARD
DTSTART:20211031T030000
TZNAME:EET
TZOFFSETFROM:+0300
TZOFFSETTO:+0200
END:STANDARD
END:VTIMEZONE
END:VCALENDAR
