BEGIN:VCALENDAR
VERSION:2.0
PRODID:-//Plone.org//NONSGML plone.app.event//EN
X-WR-TIMEZONE:Europe/Helsinki
BEGIN:VEVENT
SUMMARY:Lansering av ICLEI World Congress
DTSTART;VALUE=DATE:20210412
DTEND;VALUE=DATE:20210417
DTSTAMP:20260419T141841Z
UID:13e085f06d10403da218b5ab96a09288@varnish:6081
CATEGORIES:event
CONTACT:https://worldcongress.iclei.org/updates/day-1/
CREATED:20250422T183146Z
DESCRIPTION:Dette digitale lanseringsarrangementet vil bestå av høgt niv
 å\, innsiktsfulle\, globale diskusjonar om bidrag frå byar\, byar og reg
 ionar mot ei berekraftig framtid\, etterfølgd av ei år lang erfaring for
  å samle lokale og regionale styresmakter i ICLEI-nettverket til trass fo
 r pandemien. Klimatilpasning vil i hovudsak bli diskutert på den siste da
 gen av denne lanseringshendinga.
LAST-MODIFIED:20250422T183146Z
LOCATION:Online
URL:https://climate-adapt.eea.europa.eu/nn/more-events/iclei-world-congres
 s-launch
END:VEVENT
END:VCALENDAR
