BEGIN:VCALENDAR
VERSION:2.0
PRODID:-//Plone.org//NONSGML plone.app.event//EN
X-WR-TIMEZONE:Europe/Helsinki
BEGIN:VEVENT
SUMMARY:ICP Forests Scientific Conference (COVID-19 oppdatering)
DTSTART;VALUE=DATE:20200608
DTEND;VALUE=DATE:20200612
DTSTAMP:20260421T021338Z
UID:f4dd9e56ff254ff4a1f0e3114a02b939@varnish:6081
CATEGORIES:event
CONTACT:https://sc2020.thuenen.de/
CREATED:20250422T183149Z
DESCRIPTION:Den 9. utgåva av denne konferansen vil framheve dei omfattand
 e dataseriane frå ICP (International Co-operative Programme on Assessment
  and Monitoring of Air Pollution Effects on Forests) om skogvekst\, fenolo
 gi\, biologisk mangfald\, ernæringsstatus for lauvverk og forsøpling\, l
 uftkvalitet\, avsetning\, meteorologi\, jordsmonn og krontilstand. Dei nya
 ste resultata og konklusjonane frå lokal skala til studiar i europeisk sk
 ala vil bli presentert og diskutert.
LAST-MODIFIED:20250422T183149Z
LOCATION:Birmensdorf\, Switzerland
URL:https://climate-adapt.eea.europa.eu/nn/more-events/icp-forests-scienti
 fic-conference
END:VEVENT
END:VCALENDAR
