BEGIN:VCALENDAR
VERSION:2.0
PRODID:-//Plone.org//NONSGML plone.app.event//EN
X-WR-TIMEZONE:Europe/Helsinki
BEGIN:VEVENT
SUMMARY:LifeCoolCity-møte
DTSTART;TZID=Europe/Helsinki:20240610T170000
DTEND;TZID=Europe/Helsinki:20240618T190000
DTSTAMP:20260420T104122Z
UID:12bb9be3e221464ca7afb8c7a9f73f76@climate-adapt.eea.europa.eu
CATEGORIES:event,conference
CONTACT:https://www.mggpaero.com/en/lifecoolcity.html
CREATED:20250422T183351Z
DESCRIPTION:Korleis støttar naturen byar i møte med klimaendringar? Det 
 EU-finansierte prosjektet LifeCoolCity During vil diskutere korleis ein ka
 n styrke utviklinga av blågrøn infrastruktur i form av fem faktorar som 
 byggjer ein bys tilpasningspotensial: Landforsegling\, urbane varmeøy\, t
 ilstanden til blå infrastruktur\, tilstanden til grøn infrastruktur og t
 ilstanden til biologisk mangfald. Denne nettkonferansen vil bli halden på
  polsk med engelsk oversetjing.
LAST-MODIFIED:20250422T183351Z
LOCATION:Online
URL:https://climate-adapt.eea.europa.eu/nn/more-events/lifecoolcity-confer
 ence
END:VEVENT
BEGIN:VTIMEZONE
TZID:Europe/Helsinki
X-LIC-LOCATION:Europe/Helsinki
BEGIN:DAYLIGHT
DTSTART:20240331T040000
TZNAME:EEST
TZOFFSETFROM:+0200
TZOFFSETTO:+0300
END:DAYLIGHT
END:VTIMEZONE
END:VCALENDAR
