BEGIN:VCALENDAR
VERSION:2.0
PRODID:-//Plone.org//NONSGML plone.app.event//EN
X-WR-TIMEZONE:Europe/Helsinki
BEGIN:VEVENT
SUMMARY:Naturbaserte løysingar for hydrometeorologiske farar
DTSTART;VALUE=DATE:20210505
DTEND;VALUE=DATE:20210507
DTSTAMP:20260423T032406Z
UID:83a0b404e90e474a9d76e0b520365c33@varnish:6081
CATEGORIES:event,NBS
CONTACT:https://www.eventbrite.com/e/nature-based-solutions-for-hydro-mete
 orological-hazards-tickets-151778667079
CREATED:20250422T183419Z
DESCRIPTION:Dette 5. OPERANDUM webinaret vil handla om ein digital hub kal
 la Geospatial Information Knowledge Platform (GeoIKP). Det er retta mot å
  skalera opp offentleg medvit\, kunnskap og opptak av naturbaserte løysin
 gar når det gjeld hydrometeorologiske farar\, og det kan brenne sårbare 
 samfunn for å tilpassa seg klimaendringar.
LAST-MODIFIED:20250422T183419Z
LOCATION:Online
URL:https://climate-adapt.eea.europa.eu/nn/more-events/nature-based-soluti
 ons-for-hydro-meteorological-hazards
END:VEVENT
END:VCALENDAR
