BEGIN:VCALENDAR
VERSION:2.0
PRODID:-//Plone.org//NONSGML plone.app.event//EN
X-WR-TIMEZONE:Europe/Helsinki
BEGIN:VEVENT
SUMMARY:Trzecie światowe sympozjum na temat komunikacji w sprawie zmiany 
 klimatu (aktualizacja dotycząca COVID-19 -> anulowana)
DTSTART;TZID=Europe/Helsinki:20200706T010000
DTEND;TZID=Europe/Helsinki:20200708T005959
DTSTAMP:20260420T194736Z
UID:20a5af23d9ba4078ae54055820940670@climate-adapt.eea.europa.eu
CONTACT:https://www.haw-hamburg.de/en/ftz-nk/events/communication2020.html
CREATED:20220911T022054Z
DESCRIPTION:Złożoność zmiany klimatu oznacza\, że pilnie potrzebne s
 ą odpowiednie podejścia\, metody i narzędzia do informowania o problemi
 e. Sympozjum będzie wydarzeniem interdyscyplinarnym\, mobilizującym nauk
 owców\, ruchy społeczne\, praktyków i członków agencji rządowych\, p
 odejmujących badania lub realizujących projekty w zakresie komunikacji d
 otyczącej zmiany klimatu na całym świecie.
LAST-MODIFIED:20220925T191445Z
LOCATION:Warsaw\, Poland
URL:https://climate-adapt.eea.europa.eu/pl/more-events/3rd-world-symposium
 -on-climate-change-communication
END:VEVENT
BEGIN:VTIMEZONE
TZID:Europe/Helsinki
X-LIC-LOCATION:Europe/Helsinki
BEGIN:DAYLIGHT
DTSTART:20200329T040000
TZNAME:EEST
TZOFFSETFROM:+0200
TZOFFSETTO:+0300
END:DAYLIGHT
END:VTIMEZONE
END:VCALENDAR
