BEGIN:VCALENDAR
VERSION:2.0
PRODID:-//Plone.org//NONSGML plone.app.event//EN
X-WR-TIMEZONE:Europe/Helsinki
BEGIN:VEVENT
SUMMARY:Zgromadzenie Ogólne usługi programu Copernicus w zakresie zmiany
  klimatu – edycja 2023
DTSTART;TZID=Europe/Helsinki:20230912T100000
DTEND;TZID=Europe/Helsinki:20230914T133000
DTSTAMP:20260419T144151Z
UID:ce82b845d23448cbbf2c1d617dcba7ce@climate-adapt.eea.europa.eu
CONTACT:https://climate.copernicus.eu/6th-c3s-general-assembly
CREATED:20230817T074625Z
DESCRIPTION:Usługa programu Copernicus w zakresie zmiany klimatu (C3S) do
 starcza wiarygodnych informacji na temat przeszłego\, obecnego i przyszł
 ego klimatu\, który wspiera politykę przystosowania się do zmiany klima
 tu w Europie. Dział odbywa 6. Zgromadzenie Ogólne\, aby zastanowić się
  nad wcześniejszymi osiągnięciami i wspólnie kształtować przyszłoś
 ć służby. Tegoroczne zgromadzenie koncentruje się na zasięgu danych i
  infrastrukturze\, zaangażowaniu użytkowników i działaniach komunikacy
 jnych\, a także na uruchomieniu nowego centrum energetycznego programu Co
 pernicus\, punktu kompleksowej obsługi produktów i informacji w celu wsp
 arcia sektora energetycznego w zmieniającym się klimacie.
LAST-MODIFIED:20230817T074640Z
LOCATION:Brno\, Czechy
URL:https://climate-adapt.eea.europa.eu/pl/more-events/6th-c3s-general-ass
 embly
END:VEVENT
BEGIN:VTIMEZONE
TZID:Europe/Helsinki
X-LIC-LOCATION:Europe/Helsinki
BEGIN:DAYLIGHT
DTSTART:20230326T040000
TZNAME:EEST
TZOFFSETFROM:+0200
TZOFFSETTO:+0300
END:DAYLIGHT
END:VTIMEZONE
END:VCALENDAR
