BEGIN:VCALENDAR
VERSION:2.0
PRODID:-//Plone.org//NONSGML plone.app.event//EN
X-WR-TIMEZONE:Europe/Helsinki
BEGIN:VEVENT
SUMMARY:Warsztaty na temat klimatu2Kontrola policyjna
DTSTART;TZID=Europe/Helsinki:20201117T010000
DTEND;TZID=Europe/Helsinki:20201119T005959
DTSTAMP:20260419T211354Z
UID:79da20038ead4c00bbb24281b9056568@climate-adapt.eea.europa.eu
CONTACT:https://ec.europa.eu/easme/en/section/environment/climate-science2
 policy-workshop
CREATED:20220911T022108Z
DESCRIPTION:Warsztaty naukowe na temat polityki zapewnią współpracę mi
 ędzy środowiskiem naukowym a decydentami w zakresie europejskich wysiłk
 ów na rzecz łagodzenia zmiany klimatu i przystosowania się do niej.
LAST-MODIFIED:20220925T191939Z
LOCATION:Online
URL:https://climate-adapt.eea.europa.eu/pl/more-events/climate-science2pol
 icy-workshop
END:VEVENT
BEGIN:VTIMEZONE
TZID:Europe/Helsinki
X-LIC-LOCATION:Europe/Helsinki
BEGIN:STANDARD
DTSTART:20201025T030000
TZNAME:EET
TZOFFSETFROM:+0300
TZOFFSETTO:+0200
END:STANDARD
END:VTIMEZONE
END:VCALENDAR
