BEGIN:VCALENDAR
VERSION:2.0
PRODID:-//Plone.org//NONSGML plone.app.event//EN
X-WR-TIMEZONE:Europe/Helsinki
BEGIN:VEVENT
SUMMARY:Posiedzenie końcowe w sprawie badania na temat modelowania przyst
 osowania się do zmiany klimatu
DTSTART;TZID=Europe/Helsinki:20220318T133000
DTEND;TZID=Europe/Helsinki:20220318T150000
DTSTAMP:20260420T065559Z
UID:553877662cb044c88564a3026f1bb779@climate-adapt.eea.europa.eu
CONTACT:https://www.cmcc.it/lectures_conferences/study-on-climate-adaptati
 on-modelling-final-briefing
CREATED:20220911T022113Z
DESCRIPTION:Wyniki badania na temat modelowania adaptacyjnego\, zleconego 
 przez DG CLIMA Komisji Europejskiej i przeprowadzonego przez grupę międz
 ynarodowych naukowców koordynowaną przez Fundację CMCC\, koncentrują s
 ię na modelowaniu przystosowawczym w celu wspierania bardziej świadomego
  procesu decyzyjnego. To ostatnie wydarzenie będzie okazją do omówienia
  wyników badania w świetle ostatnich zmian w krajobrazie polityki przyst
 osowywania się do zmiany klimatu.
LAST-MODIFIED:20220925T192129Z
LOCATION:Online
URL:https://climate-adapt.eea.europa.eu/pl/more-events/final-meeting-on-th
 e-study-on-climate-adaptation-modelling
END:VEVENT
BEGIN:VTIMEZONE
TZID:Europe/Helsinki
X-LIC-LOCATION:Europe/Helsinki
BEGIN:STANDARD
DTSTART:20211031T030000
TZNAME:EET
TZOFFSETFROM:+0300
TZOFFSETTO:+0200
END:STANDARD
END:VTIMEZONE
END:VCALENDAR
