BEGIN:VCALENDAR
VERSION:2.0
PRODID:-//Plone.org//NONSGML plone.app.event//EN
X-WR-TIMEZONE:Europe/Helsinki
BEGIN:VEVENT
SUMMARY:Warsztaty JPI na rzecz klimatu – Usługi ukierunkowane na popyt 
 w Europie
DTSTART;TZID=Europe/Helsinki:20150611T030000
DTEND;TZID=Europe/Helsinki:20150612T025959
DTSTAMP:20260420T045532Z
UID:b85e64386afa49dfa774b86db93d19f3@climate-adapt.eea.europa.eu
CONTACT:http://www.jpi-climate.eu/news-events/events/10860208/Workshop-Dem
 and-driven-climate-services-in-Europe-11-12-June-2015-Brussels
CREATED:20220911T022014Z
LAST-MODIFIED:20220925T190357Z
LOCATION:Brussels\, Belgium
URL:https://climate-adapt.eea.europa.eu/pl/more-events/jpi-climate-worksho
 p-demand-driven-services-in-europe
END:VEVENT
BEGIN:VTIMEZONE
TZID:Europe/Helsinki
X-LIC-LOCATION:Europe/Helsinki
BEGIN:DAYLIGHT
DTSTART:20150329T040000
TZNAME:EEST
TZOFFSETFROM:+0200
TZOFFSETTO:+0300
END:DAYLIGHT
END:VTIMEZONE
END:VCALENDAR
