BEGIN:VCALENDAR
VERSION:2.0
PRODID:-//Plone.org//NONSGML plone.app.event//EN
X-WR-TIMEZONE:Europe/Helsinki
BEGIN:VEVENT
SUMMARY:Konferencja LifeCoolCity
DTSTART;TZID=Europe/Helsinki:20240610T120000
DTEND;TZID=Europe/Helsinki:20240618T140000
DTSTAMP:20260424T135501Z
UID:12bb9be3e221464ca7afb8c7a9f73f76@climate-adapt.eea.europa.eu
CATEGORIES:event,conference
CONTACT:https://www.mggpaero.com/en/lifecoolcity.html
CREATED:20240610T124921Z
DESCRIPTION:W jaki sposób przyroda wspiera miasta w obliczu zmian klimatu
 ? W ramach współfinansowanego przez UE projektu LifeCoolCity During omó
 wione zostaną sposoby wzmocnienia rozwoju niebiesko-zielonej infrastruktu
 ry pod kątem pięciu czynników budujących potencjał adaptacyjny miasta
 : uszczelnianie gruntów\, miejska wyspa ciepła\, stan niebieskiej infras
 truktury\, stan zielonej infrastruktury i stan różnorodności biologiczn
 ej. Ta konferencja online odbędzie się w języku polskim z tłumaczeniem
  na język angielski.
LAST-MODIFIED:20240610T124933Z
LOCATION:Online
URL:https://climate-adapt.eea.europa.eu/pl/more-events/lifecoolcity-confer
 ence
END:VEVENT
BEGIN:VTIMEZONE
TZID:Europe/Helsinki
X-LIC-LOCATION:Europe/Helsinki
BEGIN:DAYLIGHT
DTSTART:20240331T040000
TZNAME:EEST
TZOFFSETFROM:+0200
TZOFFSETTO:+0300
END:DAYLIGHT
END:VTIMEZONE
END:VCALENDAR
