BEGIN:VCALENDAR
VERSION:2.0
PRODID:-//Plone.org//NONSGML plone.app.event//EN
X-WR-TIMEZONE:Europe/Helsinki
BEGIN:VEVENT
SUMMARY:Trzeci światowy szczyt w sprawie zmiany klimatu i globalnego ocie
 plenia w 2019 r.
DTSTART;TZID=Europe/Helsinki:20190227T100000
DTEND;TZID=Europe/Helsinki:20190228T180000
DTSTAMP:20260421T233301Z
UID:ee346ab33f574bfbbcd75ee13aac6103@climate-adapt.eea.europa.eu
CONTACT:https://climate.euroscicon.com/
CREATED:20220911T022041Z
DESCRIPTION:Tematem trzeciej konferencji EuroSciCon jest „Analiza nowych
  Horyzontów i zrównoważonych technologii na rzecz przeciwdziałania zmi
 anie klimatu i globalnego ocieplenia”.
LAST-MODIFIED:20220925T190408Z
LOCATION:Prague\, Czech Republic
URL:https://climate-adapt.eea.europa.eu/pl/more-events/third-world-summit-
 on-climate-change-and-global-warming
END:VEVENT
BEGIN:VTIMEZONE
TZID:Europe/Helsinki
X-LIC-LOCATION:Europe/Helsinki
BEGIN:STANDARD
DTSTART:20181028T030000
TZNAME:EET
TZOFFSETFROM:+0300
TZOFFSETTO:+0200
END:STANDARD
END:VTIMEZONE
END:VCALENDAR
