BEGIN:VCALENDAR
VERSION:2.0
PRODID:-//Plone.org//NONSGML plone.app.event//EN
X-WR-TIMEZONE:Europe/Helsinki
BEGIN:VEVENT
SUMMARY:Seminarium internetowe: Źródła danych na potrzeby opracowywania
  i wdrażania planów adaptacji miejskiej w Polsce
DTSTART;TZID=Europe/Helsinki:20250402T110000
DTEND;TZID=Europe/Helsinki:20250402T133000
DTSTAMP:20260421T132535Z
UID:255d33f18fd94fc9aa956a195e1e6745@climate-adapt.eea.europa.eu
CATEGORIES:event,webinar,climate adaptation plan
CONTACT:https://klimat.webex.com/weblink/register/re9bf603c684605f260b1ac3
 ef38335f9
CREATED:20250422T204542Z
DESCRIPTION:Webinarium organizowane przez Ministerstwo Klimatu i Środowis
 ka zawiera przegląd dostępnych źródeł danych\, zarówno na poziomie p
 olskim\, jak i europejskim. Uczestnicy zdobędą wgląd w to\, jak skutecz
 nie wykorzystywać te źródła danych do opracowywania i wdrażania miejs
 kich planów adaptacji\, ze szczególnym uwzględnieniem praktycznych narz
 ędzi\, metodologii i studiów przypadków. Webinarium odbędzie się w j
 ęzyku polskim\, z tłumaczeniem symultanicznym na język angielski.
LAST-MODIFIED:20250422T204543Z
LOCATION:Online
URL:https://climate-adapt.eea.europa.eu/pl/more-events/webinar-data-source
 s-for-developing-and-implementing-urban-adaptation-plans
END:VEVENT
BEGIN:VTIMEZONE
TZID:Europe/Helsinki
X-LIC-LOCATION:Europe/Helsinki
BEGIN:DAYLIGHT
DTSTART:20250330T040000
TZNAME:EEST
TZOFFSETFROM:+0200
TZOFFSETTO:+0300
END:DAYLIGHT
END:VTIMEZONE
END:VCALENDAR
