BEGIN:VCALENDAR
VERSION:2.0
PRODID:-//Plone.org//NONSGML plone.app.event//EN
X-WR-TIMEZONE:Europe/Helsinki
BEGIN:VEVENT
SUMMARY:Skutki zdrowotne punktów krytycznych dla klimatu
DTSTART;TZID=Europe/Helsinki:20221205T183000
DTEND;TZID=Europe/Helsinki:20221205T200000
DTSTAMP:20260420T155607Z
UID:d6a700c67aa6450ab7af72e97cbbcbf6@climate-adapt.eea.europa.eu
CONTACT:https://health-implications-of-climate-tipping-points.confetti.eve
 nts/?utm_source=Future+Earth+Newsletter&utm_campaign=786470a4d9-EMAIL_CAMP
 AIGN_2019_06_27_02_33_COPY_02&utm_medium=email&utm_term=0_53def20e3a-78647
 0a4d9-288810897
CREATED:20221103T095629Z
DESCRIPTION:Wspólne cele (analiza\, integracja i modelowanie systemu Ziem
 i)\, Komisja ds. Ziemi\, „Przyszłość Ziemi” i „Bezpieczne Ziemia
 ” w ramach Światowego Programu Badań nad Klimatem (WCRP) w ramach webi
 narium na temat wpływu punktów krytycznych dla klimatu na zdrowie\, w ra
 mach serii\, której celem jest pogłębienie wiedzy na temat elementów p
 rzełomowych\, nieodwracalności i gwałtownych zmian w systemie Ziemi.
LAST-MODIFIED:20240404T074207Z
LOCATION:W internecie
URL:https://climate-adapt.eea.europa.eu/pl/observatory/health-implications
 -of-climate-tipping-points
END:VEVENT
BEGIN:VTIMEZONE
TZID:Europe/Helsinki
X-LIC-LOCATION:Europe/Helsinki
BEGIN:STANDARD
DTSTART:20221030T030000
TZNAME:EET
TZOFFSETFROM:+0300
TZOFFSETTO:+0200
END:STANDARD
END:VTIMEZONE
END:VCALENDAR
