BEGIN:VCALENDAR
VERSION:2.0
PRODID:-//Plone.org//NONSGML plone.app.event//EN
X-WR-TIMEZONE:Europe/Helsinki
BEGIN:VEVENT
SUMMARY:Climateurope2 Webstival
DTSTART;VALUE=DATE:20230919
DTEND;VALUE=DATE:20230922
DTSTAMP:20260422T235612Z
UID:5a2def3d8ebe4533ac7157a3bf5baaf5@climate-adapt.eea.europa.eu
CONTACT:Climateurope2 consortium\, https://climateurope2.eu/news-events/ev
 ents/events/climateurope2-webstival-second-edition
CREATED:20241218T182731Z
DESCRIPTION:19-20 de setembro - O segundo festival virtual Climateurope2 c
 entrar-se-á na transformação das empresas e comunidades da Europa atrav
 és de serviços climáticos e soluções específicas.
LAST-MODIFIED:20250414T174748Z
LOCATION:Online
URL:https://climate-adapt.eea.europa.eu/pt/mission/events/climateurope2web
 stival
END:VEVENT
END:VCALENDAR
