BEGIN:VCALENDAR
VERSION:2.0
PRODID:-//Plone.org//NONSGML plone.app.event//EN
X-WR-TIMEZONE:Europe/Helsinki
BEGIN:VEVENT
SUMMARY:Semana Europeia das Regiões e dos Municípios 2025
DTSTART;VALUE=DATE:20251013
DTEND;VALUE=DATE:20251016
DTSTAMP:20260419T200237Z
UID:10dc2f8d5c104edda0c092b5943bdfa0@climate-adapt.eea.europa.eu
CREATED:20250728T105916Z
DESCRIPTION:13-15 de outubro de 2025
LAST-MODIFIED:20250924T130731Z
LOCATION:Brussels
URL:https://climate-adapt.eea.europa.eu/pt/mission/events/euregionsweek-20
 25
END:VEVENT
END:VCALENDAR
