BEGIN:VCALENDAR
VERSION:2.0
PRODID:-//Plone.org//NONSGML plone.app.event//EN
X-WR-TIMEZONE:Europe/Helsinki
BEGIN:VEVENT
SUMMARY:Conferência da Década dos Oceanos de 2024
DTSTART;VALUE=DATE:20240410
DTEND;VALUE=DATE:20240414
DTSTAMP:20260419T234944Z
UID:742153a0e76c40df98bdecdcef045fd5@climate-adapt.eea.europa.eu
CATEGORIES:event,Coastal areas and oceans
CONTACT:https://oceandecade.org/events/2024-ocean-decade-conference/
CREATED:20250414T180245Z
DESCRIPTION:Esta conferência mundial reúne a comunidade da Década dos O
 ceanos\, criada a partir da Década das Nações Unidas da Ciência dos Oc
 eanos para o Desenvolvimento Sustentável (2021-2030)\, e parceiros para d
 ebater e celebrar as realizações e definir prioridades conjuntas para o 
 futuro da Década. A conferência contará com mais de dezenas de eventos 
 satélites que abrangem questões críticas como a adaptação às altera
 ções climáticas\, a gestão sustentável da biodiversidade e os riscos 
 naturais.
LAST-MODIFIED:20250414T180246Z
LOCATION:Barcelona\, Spain
URL:https://climate-adapt.eea.europa.eu/pt/more-events/2024-ocean-decade-c
 onference
END:VEVENT
END:VCALENDAR
