BEGIN:VCALENDAR
VERSION:2.0
PRODID:-//Plone.org//NONSGML plone.app.event//EN
X-WR-TIMEZONE:Europe/Helsinki
BEGIN:VEVENT
SUMMARY:Adaptation Futures 2016 (Futuros de adaptação 2016): práticas e
  soluções
DTSTART;VALUE=DATE:20160510
DTEND;VALUE=DATE:20160512
DTSTAMP:20260420T194817Z
UID:c64be4a7d3c04670b37f0b0122074c4a@localhost:8001
CONTACT:http://www.adaptationfutures2016.org/
CREATED:20250414T180348Z
LAST-MODIFIED:20250414T180348Z
LOCATION:Rotterdam\, The Netherlands
URL:https://climate-adapt.eea.europa.eu/pt/more-events/adaptation-futures-
 2016-practices-and-solutions
END:VEVENT
END:VCALENDAR
