BEGIN:VCALENDAR
VERSION:2.0
PRODID:-//Plone.org//NONSGML plone.app.event//EN
X-WR-TIMEZONE:Europe/Helsinki
BEGIN:VEVENT
SUMMARY:Serviço Copernicus para as Alterações Climáticas - Serviços d
 e Aprendizagem dos Utilizadores: Treinar o curso de formador
DTSTART;TZID=Europe/Helsinki:20180917T100000
DTEND;TZID=Europe/Helsinki:20181130T180000
DTSTAMP:20260420T082934Z
UID:a98e80d1b1904563ad20477d433c793c@varnish:6081
CONTACT:https://climate.copernicus.eu/c3s-user-learning-services-train-tra
 iner-course
CREATED:20250422T182607Z
DESCRIPTION:Os Serviços de Aprendizagem dos Utilizadores do Serviço Cope
 rnicus para as Alterações Climáticas (C3S) oferecem eventos de formaç
 ão gratuitos e recursos sobre como utilizar a plataforma Copernicus Clima
 te Data Store (CDS) e o seu conteúdo para apoiar as suas avaliações de 
 impacto das alterações climáticas. Os cursos combinam aprendizagem em l
 inha e eventos presenciais em 30 países de toda a Europa.
LAST-MODIFIED:20250422T182607Z
LOCATION:across Europe
URL:https://climate-adapt.eea.europa.eu/pt/more-events/copernicus-climate-
 change-service-user-learning-services-train-the-trainer-course
END:VEVENT
BEGIN:VTIMEZONE
TZID:Europe/Helsinki
X-LIC-LOCATION:Europe/Helsinki
BEGIN:DAYLIGHT
DTSTART:20180325T040000
TZNAME:EEST
TZOFFSETFROM:+0200
TZOFFSETTO:+0300
END:DAYLIGHT
BEGIN:STANDARD
DTSTART:20181028T030000
TZNAME:EET
TZOFFSETFROM:+0300
TZOFFSETTO:+0200
END:STANDARD
END:VTIMEZONE
END:VCALENDAR
