BEGIN:VCALENDAR
VERSION:2.0
PRODID:-//Plone.org//NONSGML plone.app.event//EN
X-WR-TIMEZONE:Europe/Helsinki
BEGIN:VEVENT
SUMMARY:Dados para a ação climática no Mediterrâneo
DTSTART;VALUE=DATE:20211025
DTEND;VALUE=DATE:20211028
DTSTAMP:20260419T183604Z
UID:989442c0137b4d10964556b90fecfee0@varnish:6081
CATEGORIES:Climate data,Climate change datasets and tools,Mediterranean
CONTACT:https://climate.copernicus.eu/data-climate-action-mediterranean
CREATED:20250422T182644Z
DESCRIPTION:Nos dias 25 e 26 de outubro\, o Serviço Copernicus para as Al
 terações Climáticas e a União para o Mediterrâneo organizarão um sem
 inário virtual para apresentar os desafios relacionados com as alteraçõ
 es climáticas no Mediterrâneo e a forma como estes podem ser superados a
 través de uma melhor alavancagem dos dados climáticos.
LAST-MODIFIED:20250422T182644Z
LOCATION:Online
URL:https://climate-adapt.eea.europa.eu/pt/more-events/data-for-climate-ac
 tion-in-the-mediterranean
END:VEVENT
END:VCALENDAR
