BEGIN:VCALENDAR
VERSION:2.0
PRODID:-//Plone.org//NONSGML plone.app.event//EN
X-WR-TIMEZONE:Europe/Helsinki
BEGIN:VEVENT
SUMMARY:Semana Verde da UE 2019
DTSTART;VALUE=DATE:20190513
DTEND;VALUE=DATE:20190519
DTSTAMP:20260421T062805Z
UID:15ba64fe6b9740f99320e819016e4824@varnish:6081
CATEGORIES:event
CONTACT:https://ec.europa.eu/info/events/eu-green-week-2019_en
CREATED:20250422T182837Z
DESCRIPTION:A edição de 2019 da Semana Verde da UE colocará em destaque
  o processo de aplicação da política ambiental. Incluirá eventos em to
 da a Europa\, com o evento oficial de abertura em 13 de maio num dos Estad
 os-Membros da UE e uma cimeira de alto nível em Bruxelas\, de 15 a 17 de 
 maio. O encerramento da Semana Verde terá lugar no final da conferência 
 de Bruxelas e apresentará as conclusões políticas da semana.
LAST-MODIFIED:20250422T182838Z
LOCATION:Location: across Europe
URL:https://climate-adapt.eea.europa.eu/pt/more-events/eu-green-week-2019
END:VEVENT
END:VCALENDAR
