BEGIN:VCALENDAR
VERSION:2.0
PRODID:-//Plone.org//NONSGML plone.app.event//EN
X-WR-TIMEZONE:Europe/Helsinki
BEGIN:VEVENT
SUMMARY:Jornadas de informação sobre o Programa LIFE da UE
DTSTART;VALUE=DATE:20250513
DTEND;VALUE=DATE:20250517
DTSTAMP:20260421T160420Z
UID:b569b8f1a1744aceb3f24912c37f1e1e@climate-adapt.eea.europa.eu
CATEGORIES:event,LIFE
CONTACT:https://vo-europe.swoogo.com/eu-life-info-days-2025/Home
CREATED:20250414T150056Z
DESCRIPTION:As jornadas de informação LIFE da UE de 2025 apresentam os p
 róximos convites à apresentação de propostas\, incluindo o subprograma
  «Atenuação das alterações climáticas e adaptação às mesmas». O 
 programa LIFE cofinancia projetos nos domínios da adaptação urbana e do
  ordenamento do território\, da resiliência das infraestruturas\, da ges
 tão sustentável da água em zonas propensas a secas\, da gestão das inu
 ndações e das zonas costeiras\, da resiliência dos setores agrícola\, 
 florestal e do turismo e/ou do apoio às regiões ultraperiféricas da UE:
  preparação para fenómenos meteorológicos extremos\, nomeadamente nas 
 zonas costeiras. Concede subvenções de ação para projetos de boas prá
 ticas\, projetos-piloto e projetos de demonstração que contribuam para a
 umentar a resiliência às alterações climáticas.
LAST-MODIFIED:20250414T150056Z
LOCATION:Online
URL:https://climate-adapt.eea.europa.eu/pt/more-events/eu-life-info-days
END:VEVENT
END:VCALENDAR
