BEGIN:VCALENDAR
VERSION:2.0
PRODID:-//Plone.org//NONSGML plone.app.event//EN
X-WR-TIMEZONE:Europe/Helsinki
BEGIN:VEVENT
SUMMARY:Lançamento do Congresso Mundial do ICLEI
DTSTART;VALUE=DATE:20210412
DTEND;VALUE=DATE:20210417
DTSTAMP:20260422T062155Z
UID:13e085f06d10403da218b5ab96a09288@varnish:6081
CATEGORIES:event
CONTACT:https://worldcongress.iclei.org/updates/day-1/
CREATED:20250422T183143Z
DESCRIPTION:Este evento de lançamento digital consistirá em debates mund
 iais de alto nível e perspicazes sobre os contributos dos municípios e d
 as regiões para um futuro sustentável\, seguidos de uma experiência de 
 um ano para reunir os governos locais e regionais da rede ICLEI\, apesar d
 a pandemia. A adaptação às alterações climáticas será debatida prin
 cipalmente no último dia deste evento de lançamento.
LAST-MODIFIED:20250422T183144Z
LOCATION:Online
URL:https://climate-adapt.eea.europa.eu/pt/more-events/iclei-world-congres
 s-launch
END:VEVENT
END:VCALENDAR
