BEGIN:VCALENDAR
VERSION:2.0
PRODID:-//Plone.org//NONSGML plone.app.event//EN
X-WR-TIMEZONE:Europe/Helsinki
BEGIN:VEVENT
SUMMARY:Soluções baseadas na natureza para riscos hidrometeorológicos
DTSTART;VALUE=DATE:20210505
DTEND;VALUE=DATE:20210507
DTSTAMP:20260423T144719Z
UID:83a0b404e90e474a9d76e0b520365c33@varnish:6081
CATEGORIES:event,NBS
CONTACT:https://www.eventbrite.com/e/nature-based-solutions-for-hydro-mete
 orological-hazards-tickets-151778667079
CREATED:20250422T183417Z
DESCRIPTION:Este 5o webinar OPERANDUM será sobre um hub digital chamado G
 eospatial Information Knowledge Platform (GeoIKP). Destina-se a aumentar a
  conscientização pública\, o conhecimento e a adoção de soluções ba
 seadas na natureza ao abordar os perigos hidrometeorológicos e pode alime
 ntar as comunidades vulneráveis para se adaptarem às mudanças climátic
 as.
LAST-MODIFIED:20250422T183417Z
LOCATION:Online
URL:https://climate-adapt.eea.europa.eu/pt/more-events/nature-based-soluti
 ons-for-hydro-meteorological-hazards
END:VEVENT
END:VCALENDAR
