BEGIN:VCALENDAR
VERSION:2.0
PRODID:-//Plone.org//NONSGML plone.app.event//EN
X-WR-TIMEZONE:Europe/Helsinki
BEGIN:VEVENT
SUMMARY:Webinário sobre as ferramentas urbanas Climate-ADAPT
DTSTART;TZID=Europe/Helsinki:20191023T120000
DTEND;TZID=Europe/Helsinki:20191023T130000
DTSTAMP:20260421T133138Z
UID:fbe6fb75db5a448d8eabf8a091ee880b@varnish:6081
CREATED:20250422T184001Z
DESCRIPTION:O objetivo deste sexto webinário da Plataforma Europeia para 
 a Adaptação Climática (Climate-ADAPT) é melhorar a sensibilização pa
 ra os elementos e ferramentas de conhecimento urbano Climate-ADAPT e promo
 ver a sua utilização\, por exemplo\, para o planeamento local\, a sensib
 ilização\, os processos participativos e a formulação de projetos.
LAST-MODIFIED:20250422T184001Z
LOCATION:webinar
URL:https://climate-adapt.eea.europa.eu/pt/more-events/webinar-on-climate-
 adapt-urban-tools
END:VEVENT
BEGIN:VTIMEZONE
TZID:Europe/Helsinki
X-LIC-LOCATION:Europe/Helsinki
BEGIN:DAYLIGHT
DTSTART:20190331T040000
TZNAME:EEST
TZOFFSETFROM:+0200
TZOFFSETTO:+0300
END:DAYLIGHT
END:VTIMEZONE
END:VCALENDAR
