BEGIN:VCALENDAR
VERSION:2.0
PRODID:-//Plone.org//NONSGML plone.app.event//EN
X-WR-TIMEZONE:Europe/Helsinki
BEGIN:VEVENT
SUMMARY:Webinário sobre o ordenamento do espaço marítimo num clima em m
 udança
DTSTART;TZID=Europe/Helsinki:20230209T120000
DTEND;TZID=Europe/Helsinki:20230209T130000
DTSTAMP:20260420T060919Z
UID:8717a4f5f98c46378345e51f702f363d@varnish:6081
CATEGORIES:Webinar,Climate impact,Maritime Spatial Planning
CREATED:20250422T184014Z
DESCRIPTION:O ordenamento do espaço marítimo (OEM) visa dar resposta à 
 procura crescente de espaço e recursos marinhos dos setores tradicionais 
 e emergentes\, preservando simultaneamente os ecossistemas marinhos e os s
 eus serviços. Sendo um processo de longo prazo e de grande alcance\, o OE
 M deve ter em conta os impactos diretos e indiretos das alterações clim
 áticas. O webinário informará os participantes de cidades e municípios
 \, condados\, regiões\, autoridades marinhas e marítimas\, operadores ec
 onómicos marítimos e costeiros\, universidades e organizações da socie
 dade civil sobre os impactos das alterações climáticas e sobre as opç
 ões para tornar o setor resiliente às alterações climáticas. O regist
 o é necessário.
LAST-MODIFIED:20250422T184014Z
LOCATION:Online
URL:https://climate-adapt.eea.europa.eu/pt/more-events/webinar-on-maritime
 -spatial-planning-in-a-changing-climate
END:VEVENT
BEGIN:VTIMEZONE
TZID:Europe/Helsinki
X-LIC-LOCATION:Europe/Helsinki
BEGIN:STANDARD
DTSTART:20221030T030000
TZNAME:EET
TZOFFSETFROM:+0300
TZOFFSETTO:+0200
END:STANDARD
END:VTIMEZONE
END:VCALENDAR
