BEGIN:VCALENDAR
VERSION:2.0
PRODID:-//Plone.org//NONSGML plone.app.event//EN
X-WR-TIMEZONE:Europe/Helsinki
BEGIN:VEVENT
SUMMARY:Zilele de informare privind programul LIFE (eveniment extern)
DTSTART;VALUE=DATE:20250513
DTEND;VALUE=DATE:20250516
DTSTAMP:20260419T185708Z
UID:193482d529d440bc9a1e0474ad1b59e6@climate-adapt.eea.europa.eu
CONTACT:https://vo-europe.swoogo.com/eu-life-info-days-2025/Home
CREATED:20250412T205152Z
DESCRIPTION:13-15 mai 2025
LAST-MODIFIED:20250412T205153Z
URL:https://climate-adapt.eea.europa.eu/ro/mission/events/life-programme-i
 ngo-days-external-event
END:VEVENT
END:VCALENDAR
