BEGIN:VCALENDAR
VERSION:2.0
PRODID:-//Plone.org//NONSGML plone.app.event//EN
X-WR-TIMEZONE:Europe/Helsinki
BEGIN:VEVENT
SUMMARY:Prezentarea Ghidului MIP4Adapt pentru evaluarea riscurilor și vul
 nerabilităților legate de schimbările climatice
DTSTART;TZID=Europe/Helsinki:20240130T143000
DTEND;TZID=Europe/Helsinki:20240130T160000
DTSTAMP:20260420T155602Z
UID:d3e9517af0a0403e8097d519e7a17e7a@climate-adapt.eea.europa.eu
CREATED:20241105T180525Z
DESCRIPTION:30 ianuarie 2024\, 12.30-14.00 (CET)
LAST-MODIFIED:20250412T210449Z
URL:https://climate-adapt.eea.europa.eu/ro/mission/events/presenting-mip4a
 dapt2019s-guide-to-assessment-climate-change-risks-and-vulnerabilities
END:VEVENT
BEGIN:VTIMEZONE
TZID:Europe/Helsinki
X-LIC-LOCATION:Europe/Helsinki
BEGIN:STANDARD
DTSTART:20231029T030000
TZNAME:EET
TZOFFSETFROM:+0300
TZOFFSETTO:+0200
END:STANDARD
END:VTIMEZONE
END:VCALENDAR
