BEGIN:VCALENDAR
VERSION:2.0
PRODID:-//Plone.org//NONSGML plone.app.event//EN
X-WR-TIMEZONE:Europe/Helsinki
BEGIN:VEVENT
SUMMARY:Conferința și amplitudinea serviciilor Copernicus privind schimb
 ările climatice\; Adunarea generală
DTSTART;VALUE=DATE:20210518
DTEND;VALUE=DATE:20210522
DTSTAMP:20260420T012522Z
UID:c4d8a0a7618d44e2b46992e75508bce6@varnish:6081
CATEGORIES:event
CONTACT:https://climate.copernicus.eu/c3s-conference-general-assembly?q=c3
 s-4th-general-assembly
CREATED:20250412T212741Z
DESCRIPTION:Interesat de riscul climatic și de reziliență? Alăturați-
 vă conferinței Copernicus Climate Change Service (C3S)\; Adunarea genera
 lă\, trei după-amiezi de prezentări online și dezbateri cu privire la 
 cele mai recente evoluții în monitorizarea climei\, cu vorbitori și par
 ticipanți din partea unor institute internaționale de cercetare de vârf
 \, a serviciilor guvernamentale și a inovatorilor din sectorul privat.
LAST-MODIFIED:20250412T212741Z
LOCATION:Online
URL:https://climate-adapt.eea.europa.eu/ro/more-events/c3s-conference-gene
 ral-assembly
END:VEVENT
END:VCALENDAR
