BEGIN:VCALENDAR
VERSION:2.0
PRODID:-//Plone.org//NONSGML plone.app.event//EN
X-WR-TIMEZONE:Europe/Helsinki
BEGIN:VEVENT
SUMMARY:Cea de a 29-a sesiune a Conferinței părților la Convenția-cadr
 u a Națiunilor Unite asupra schimbărilor climatice
DTSTART;VALUE=DATE:20241111
DTEND;VALUE=DATE:20241124
DTSTAMP:20260419T234533Z
UID:03a2c4301a7b41abbc4f9204014268a6@climate-adapt.eea.europa.eu
CATEGORIES:event,COP
CONTACT:https://cop29.az/en
CREATED:20250412T212852Z
DESCRIPTION:Cea de a 29-a sesiune a Conferinței părților la Convenția-
 cadru a Națiunilor Unite asupra schimbărilor climatice va fi găzduită 
 în perioada 11-22 noiembrie 2024 la Baku\, Azerbaidjan.
LAST-MODIFIED:20250412T212852Z
LOCATION:Baku\, Azerbaijan
URL:https://climate-adapt.eea.europa.eu/ro/more-events/cop29
END:VEVENT
END:VCALENDAR
