BEGIN:VCALENDAR
VERSION:2.0
PRODID:-//Plone.org//NONSGML plone.app.event//EN
X-WR-TIMEZONE:Europe/Helsinki
BEGIN:VEVENT
SUMMARY:Serviciul Copernicus privind schimbările climatice – Servicii d
 e învățare pentru utilizatori: Formarea cursului de formator
DTSTART;TZID=Europe/Helsinki:20180917T120000
DTEND;TZID=Europe/Helsinki:20181130T190000
DTSTAMP:20260420T065652Z
UID:a98e80d1b1904563ad20477d433c793c@varnish:6081
CONTACT:https://climate.copernicus.eu/c3s-user-learning-services-train-tra
 iner-course
CREATED:20240513T082838Z
DESCRIPTION:Serviciul Copernicus de învățare a utilizatorilor privind s
 chimbările climatice (C3S) oferă evenimente de formare și resurse gratu
 ite cu privire la modul de utilizare a platformei Copernicus Climate Data 
 Store (CDS) și a conținutului acesteia pentru a vă sprijini evaluările
  impactului asupra schimbărilor climatice. Cursurile combină învățare
 a online și evenimentele față în față în 30 de țări din întreaga
  Europă.
LAST-MODIFIED:20250412T212859Z
LOCATION:across Europe
URL:https://climate-adapt.eea.europa.eu/ro/more-events/copernicus-climate-
 change-service-user-learning-services-train-the-trainer-course
END:VEVENT
BEGIN:VTIMEZONE
TZID:Europe/Helsinki
X-LIC-LOCATION:Europe/Helsinki
BEGIN:DAYLIGHT
DTSTART:20180325T040000
TZNAME:EEST
TZOFFSETFROM:+0200
TZOFFSETTO:+0300
END:DAYLIGHT
BEGIN:STANDARD
DTSTART:20181028T030000
TZNAME:EET
TZOFFSETFROM:+0300
TZOFFSETTO:+0200
END:STANDARD
END:VTIMEZONE
END:VCALENDAR
