BEGIN:VCALENDAR
VERSION:2.0
PRODID:-//Plone.org//NONSGML plone.app.event//EN
X-WR-TIMEZONE:Europe/Helsinki
BEGIN:VEVENT
SUMMARY:Date pentru combaterea schimbărilor climatice în Mediterana
DTSTART;VALUE=DATE:20211025
DTEND;VALUE=DATE:20211028
DTSTAMP:20260421T132952Z
UID:989442c0137b4d10964556b90fecfee0@varnish:6081
CATEGORIES:Climate data,Climate change datasets and tools,Mediterranean
CONTACT:https://climate.copernicus.eu/data-climate-action-mediterranean
CREATED:20250412T212911Z
DESCRIPTION:În zilele de 25 și 26 octombrie\, Serviciul Copernicus privi
 nd schimbările climatice și Uniunea pentru Mediterana vor găzdui un ate
 lier virtual pentru a prezenta provocările legate de schimbările climati
 ce în Mediterana și modul în care acestea pot fi depășite printr-o ma
 i bună valorificare a datelor climatice.
LAST-MODIFIED:20250412T212911Z
LOCATION:Online
URL:https://climate-adapt.eea.europa.eu/ro/more-events/data-for-climate-ac
 tion-in-the-mediterranean
END:VEVENT
END:VCALENDAR
