BEGIN:VCALENDAR
VERSION:2.0
PRODID:-//Plone.org//NONSGML plone.app.event//EN
X-WR-TIMEZONE:Europe/Helsinki
BEGIN:VEVENT
SUMMARY:EMECS'11 SeaCoasts XXVI
DTSTART;VALUE=DATE:20160822
DTEND;VALUE=DATE:20160824
DTSTAMP:20260420T182932Z
UID:df0ed0e224c5418498690a5c5627bcd5@localhost:8001
CONTACT:http://www.emecs-sc2016.com/
CREATED:20240513T081335Z
DESCRIPTION:Tema conferinței: Gestionarea riscurilor pentru regiunile și
  comunitățile de coastă într-o lume în schimbare.
LAST-MODIFIED:20250412T212942Z
LOCATION:St. Petersburg\, Russia
URL:https://climate-adapt.eea.europa.eu/ro/more-events/emecs-11-seacoasts-
 xxvi
END:VEVENT
END:VCALENDAR
