BEGIN:VCALENDAR
VERSION:2.0
PRODID:-//Plone.org//NONSGML plone.app.event//EN
X-WR-TIMEZONE:Europe/Helsinki
BEGIN:VEVENT
SUMMARY:Zilele de informare privind programul LIFE al UE
DTSTART;VALUE=DATE:20250513
DTEND;VALUE=DATE:20250517
DTSTAMP:20260419T234944Z
UID:b569b8f1a1744aceb3f24912c37f1e1e@climate-adapt.eea.europa.eu
CATEGORIES:event,LIFE
CONTACT:https://vo-europe.swoogo.com/eu-life-info-days-2025/Home
CREATED:20250412T200433Z
DESCRIPTION:Zilele de informare LIFE ale UE pentru 2025 prezintă viitoare
 le cereri de propuneri\, inclusiv subprogramul Atenuarea schimbărilor cli
 matice și adaptarea la acestea. Programul LIFE cofinanțează proiecte î
 n domeniul adaptării urbane și al amenajării teritoriului\, al rezilien
 ței infrastructurii\, al gestionării durabile a apei în zonele predispu
 se la secetă\, al gestionării inundațiilor și a zonelor costiere\, al 
 rezilienței sectoarelor agricol\, forestier și turistic și/sau al sprij
 inului acordat regiunilor ultraperiferice ale UE: pregătirea pentru fenom
 ene meteorologice extreme\, în special în zonele de coastă. Acesta ofer
 ă granturi pentru acțiuni destinate celor mai bune practici\, proiectelo
 r-pilot și proiectelor demonstrative care contribuie la creșterea rezili
 enței la schimbările climatice.
LAST-MODIFIED:20250412T200433Z
LOCATION:Online
URL:https://climate-adapt.eea.europa.eu/ro/more-events/eu-life-info-days
END:VEVENT
END:VCALENDAR
