BEGIN:VCALENDAR
VERSION:2.0
PRODID:-//Plone.org//NONSGML plone.app.event//EN
X-WR-TIMEZONE:Europe/Helsinki
BEGIN:VEVENT
SUMMARY:Conferința FLOODrisk 2016
DTSTART;TZID=Europe/Helsinki:20161017T120000
DTEND;TZID=Europe/Helsinki:20161022T015500
DTSTAMP:20260419T183048Z
UID:be3f0f220afd402bb7b7d5df00113e47@localhost:8000
CONTACT:http://floodrisk2016.net/
CREATED:20240513T082005Z
DESCRIPTION:FLOODrisk 2016 va explora progresele cercetării în analiza r
 iscului de inundații și inovațiile în practica de gestionare a risculu
 i de inundații. Conferința va lua în considerare toate aspectele legate
  de riscul de inundații și va acoperi cauzele inundațiilor\, impactul a
 cestora asupra oamenilor\, proprietăților și mediului\, precum și port
 ofoliile de măsuri de gestionare a riscurilor.
LAST-MODIFIED:20250412T213059Z
LOCATION:Lyon\, France
URL:https://climate-adapt.eea.europa.eu/ro/more-events/floodrisk-2016-conf
 erence
END:VEVENT
BEGIN:VTIMEZONE
TZID:Europe/Helsinki
X-LIC-LOCATION:Europe/Helsinki
BEGIN:DAYLIGHT
DTSTART:20160327T040000
TZNAME:EEST
TZOFFSETFROM:+0200
TZOFFSETTO:+0300
END:DAYLIGHT
END:VTIMEZONE
END:VCALENDAR
