BEGIN:VCALENDAR
VERSION:2.0
PRODID:-//Plone.org//NONSGML plone.app.event//EN
X-WR-TIMEZONE:Europe/Helsinki
BEGIN:VEVENT
SUMMARY:Lansarea Congresului Mondial ICLEI
DTSTART;VALUE=DATE:20210412
DTEND;VALUE=DATE:20210417
DTSTAMP:20260420T114625Z
UID:13e085f06d10403da218b5ab96a09288@varnish:6081
CATEGORIES:event
CONTACT:https://worldcongress.iclei.org/updates/day-1/
CREATED:20250412T213153Z
DESCRIPTION:Acest eveniment de lansare digitală va consta în discuții l
 a nivel înalt\, profunde și globale cu privire la contribuțiile orașel
 or și regiunilor la un viitor durabil\, urmate de o experiență de un an
  pentru a reuni administrațiile locale și regionale ale rețelei ICLEI 
 în pofida pandemiei. Adaptarea la schimbările climatice va fi discutată
  în principal în ultima zi a acestui eveniment de lansare.
LAST-MODIFIED:20250412T213153Z
LOCATION:Online
URL:https://climate-adapt.eea.europa.eu/ro/more-events/iclei-world-congres
 s-launch
END:VEVENT
END:VCALENDAR
