BEGIN:VCALENDAR
VERSION:2.0
PRODID:-//Plone.org//NONSGML plone.app.event//EN
X-WR-TIMEZONE:Europe/Helsinki
BEGIN:VEVENT
SUMMARY:Webinar privind instrumentele urbane Climate-ADAPT
DTSTART;TZID=Europe/Helsinki:20191023T140000
DTEND;TZID=Europe/Helsinki:20191023T150000
DTSTAMP:20260420T044948Z
UID:fbe6fb75db5a448d8eabf8a091ee880b@varnish:6081
CREATED:20240513T075609Z
DESCRIPTION:Scopul acestui al șaselea webinar al Platformei europene pent
 ru adaptarea la schimbările climatice (Climate-ADAPT) este de a îmbunăt
 ăți gradul de sensibilizare cu privire la elementele și instrumentele d
 e cunoaștere urbană Climate-ADAPT și de a promova utilizarea acestora\,
  de exemplu pentru planificarea locală\, sensibilizare\, procese particip
 ative și formularea proiectelor.
LAST-MODIFIED:20250412T213608Z
LOCATION:webinar
URL:https://climate-adapt.eea.europa.eu/ro/more-events/webinar-on-climate-
 adapt-urban-tools
END:VEVENT
BEGIN:VTIMEZONE
TZID:Europe/Helsinki
X-LIC-LOCATION:Europe/Helsinki
BEGIN:DAYLIGHT
DTSTART:20190331T040000
TZNAME:EEST
TZOFFSETFROM:+0200
TZOFFSETTO:+0300
END:DAYLIGHT
END:VTIMEZONE
END:VCALENDAR
