BEGIN:VCALENDAR
VERSION:2.0
PRODID:-//Plone.org//NONSGML plone.app.event//EN
X-WR-TIMEZONE:Europe/Helsinki
BEGIN:VEVENT
SUMMARY:Webinar privind amenajarea spațiului maritim într-un climat în 
 schimbare
DTSTART;TZID=Europe/Helsinki:20230209T130000
DTEND;TZID=Europe/Helsinki:20230209T140000
DTSTAMP:20260420T054125Z
UID:8717a4f5f98c46378345e51f702f363d@varnish:6081
CATEGORIES:Webinar,Climate impact,Maritime Spatial Planning
CREATED:20240513T083225Z
DESCRIPTION:Amenajarea spațiului maritim (MSP) urmărește să facă faț
 ă cererii tot mai mari de spațiu și resurse marine din sectoarele tradi
 ționale și emergente\, conservând în același timp ecosistemele marine
  și serviciile acestora. Fiind un proces pe termen lung și de anvergură
 \, amenajarea spațiului maritim ar trebui să ia în considerare impactul
  direct și indirect al schimbărilor climatice. Webinarul va informa part
 icipanții din orașe și municipalități\, județe\, regiuni\, autorită
 ți marine și maritime\, operatori economici maritimi și costieri\, medi
 ul academic și organizații ale societății civile cu privire la impactu
 l schimbărilor climatice și la opțiunile de a face sectorul rezilient l
 a schimbările climatice. Este necesară înregistrarea.
LAST-MODIFIED:20250412T213559Z
LOCATION:Online
URL:https://climate-adapt.eea.europa.eu/ro/more-events/webinar-on-maritime
 -spatial-planning-in-a-changing-climate
END:VEVENT
BEGIN:VTIMEZONE
TZID:Europe/Helsinki
X-LIC-LOCATION:Europe/Helsinki
BEGIN:STANDARD
DTSTART:20221030T030000
TZNAME:EET
TZOFFSETFROM:+0300
TZOFFSETTO:+0200
END:STANDARD
END:VTIMEZONE
END:VCALENDAR
